Package: GeneExpressionSignature Version: 1.55.0 Command: /home/biocbuild/bbs-3.22-bioc/R/bin/R CMD build --keep-empty-dirs --no-resave-data --md5 GeneExpressionSignature StartedAt: 2025-10-03 17:43:26 -0400 (Fri, 03 Oct 2025) EndedAt: 2025-10-03 17:43:51 -0400 (Fri, 03 Oct 2025) EllapsedTime: 25.0 seconds RetCode: 0 Status: OK PackageFile: GeneExpressionSignature_1.55.0.tar.gz PackageFileSize: 2.546 MiB