Package: GenProSeq Version: 1.15.0 Command: /Library/Frameworks/R.framework/Resources/bin/R CMD INSTALL GenProSeq StartedAt: 2025-11-21 15:06:43 -0500 (Fri, 21 Nov 2025) EndedAt: 2025-11-21 15:06:47 -0500 (Fri, 21 Nov 2025) EllapsedTime: 4.6 seconds RetCode: 0 Status: OK