Package: GenProSeq Version: 1.15.0 Command: /Library/Frameworks/R.framework/Resources/bin/R CMD build --keep-empty-dirs --no-resave-data GenProSeq StartedAt: 2025-11-21 16:27:15 -0500 (Fri, 21 Nov 2025) EndedAt: 2025-11-21 16:27:22 -0500 (Fri, 21 Nov 2025) EllapsedTime: 7.1 seconds RetCode: 0 Status: OK PackageFile: GenProSeq_1.15.0.tar.gz PackageFileSize: 1.115 MiB