Package: GeDi Version: 1.5.0 Command: /home/biocbuild/bbs-3.22-bioc/R/bin/R CMD INSTALL GeDi StartedAt: 2025-10-22 15:50:37 -0400 (Wed, 22 Oct 2025) EndedAt: 2025-10-22 15:51:31 -0400 (Wed, 22 Oct 2025) EllapsedTime: 53.5 seconds RetCode: 0 Status: OK