Package: GateFinder Version: 1.29.0 Command: /home/biocbuild/bbs-3.22-bioc/R/bin/R CMD build --keep-empty-dirs --no-resave-data --md5 GateFinder StartedAt: 2025-10-20 17:39:17 -0400 (Mon, 20 Oct 2025) EndedAt: 2025-10-20 17:39:35 -0400 (Mon, 20 Oct 2025) EllapsedTime: 18.0 seconds RetCode: 0 Status: OK PackageFile: GateFinder_1.29.0.tar.gz PackageFileSize: 582.7 KiB