Package: GOSemSim Version: 2.35.2 Command: /home/biocbuild/bbs-3.22-bioc/R/bin/R CMD INSTALL GOSemSim StartedAt: 2025-10-08 15:52:17 -0400 (Wed, 08 Oct 2025) EndedAt: 2025-10-08 15:52:42 -0400 (Wed, 08 Oct 2025) EllapsedTime: 25.5 seconds RetCode: 0 Status: OK