Package: GNET2 Version: 1.27.0 Command: /home/biocbuild/bbs-3.23-bioc/R/bin/R CMD INSTALL GNET2 StartedAt: 2025-11-07 15:18:33 -0500 (Fri, 07 Nov 2025) EndedAt: 2025-11-07 15:19:06 -0500 (Fri, 07 Nov 2025) EllapsedTime: 33.2 seconds RetCode: 0 Status: OK