Package: GEOsubmission Version: 1.63.0 Command: /home/biocbuild/bbs-3.23-bioc/R/bin/R CMD INSTALL GEOsubmission StartedAt: 2025-11-07 15:12:56 -0500 (Fri, 07 Nov 2025) EndedAt: 2025-11-07 15:13:01 -0500 (Fri, 07 Nov 2025) EllapsedTime: 4.5 seconds RetCode: 0 Status: OK