Package: GEOsubmission Version: 1.63.0 Command: /home/biocbuild/bbs-3.23-bioc/R/bin/R CMD build --keep-empty-dirs --no-resave-data GEOsubmission StartedAt: 2025-11-07 17:45:12 -0500 (Fri, 07 Nov 2025) EndedAt: 2025-11-07 17:45:19 -0500 (Fri, 07 Nov 2025) EllapsedTime: 7.0 seconds RetCode: 0 Status: OK PackageFile: GEOsubmission_1.63.0.tar.gz PackageFileSize: 192.5 KiB