Package: GEOquery Version: 2.77.6 Command: /home/biocbuild/bbs-3.22-bioc/R/bin/R CMD INSTALL GEOquery StartedAt: 2025-09-30 15:33:02 -0400 (Tue, 30 Sep 2025) EndedAt: 2025-09-30 15:33:27 -0400 (Tue, 30 Sep 2025) EllapsedTime: 24.6 seconds RetCode: 0 Status: OK