Package: GDSArray Version: 1.31.0 Command: /home/biocbuild/bbs-3.23-bioc/R/bin/R CMD INSTALL GDSArray StartedAt: 2025-11-21 15:25:34 -0500 (Fri, 21 Nov 2025) EndedAt: 2025-11-21 15:25:51 -0500 (Fri, 21 Nov 2025) EllapsedTime: 17.5 seconds RetCode: 0 Status: OK