Package: GDSArray Version: 1.31.0 Command: /home/biocbuild/bbs-3.23-bioc/R/bin/R CMD build --keep-empty-dirs --no-resave-data GDSArray StartedAt: 2025-11-21 17:42:43 -0500 (Fri, 21 Nov 2025) EndedAt: 2025-11-21 17:43:10 -0500 (Fri, 21 Nov 2025) EllapsedTime: 27.0 seconds RetCode: 0 Status: OK PackageFile: GDSArray_1.31.0.tar.gz PackageFileSize: 305.6 KiB