Package: GDSArray Version: 1.31.0 Command: /Library/Frameworks/R.framework/Resources/bin/R CMD INSTALL GDSArray StartedAt: 2025-11-21 15:31:03 -0500 (Fri, 21 Nov 2025) EndedAt: 2025-11-21 15:31:28 -0500 (Fri, 21 Nov 2025) EllapsedTime: 24.2 seconds RetCode: 0 Status: OK