Package: GDSArray Version: 1.31.0 Command: /Library/Frameworks/R.framework/Resources/bin/R CMD build --keep-empty-dirs --no-resave-data GDSArray StartedAt: 2025-11-21 17:05:00 -0500 (Fri, 21 Nov 2025) EndedAt: 2025-11-21 17:05:34 -0500 (Fri, 21 Nov 2025) EllapsedTime: 34.2 seconds RetCode: 0 Status: OK PackageFile: GDSArray_1.31.0.tar.gz PackageFileSize: 305.5 KiB