Package: GDSArray Version: 1.31.0 Command: /Library/Frameworks/R.framework/Resources/bin/R CMD INSTALL GDSArray StartedAt: 2025-11-14 15:15:54 -0500 (Fri, 14 Nov 2025) EndedAt: 2025-11-14 15:16:01 -0500 (Fri, 14 Nov 2025) EllapsedTime: 7.0 seconds RetCode: 0 Status: OK