Package: GDSArray Version: 1.31.0 Command: /Library/Frameworks/R.framework/Resources/bin/R CMD build --keep-empty-dirs --no-resave-data GDSArray StartedAt: 2025-11-14 16:24:53 -0500 (Fri, 14 Nov 2025) EndedAt: 2025-11-14 16:25:05 -0500 (Fri, 14 Nov 2025) EllapsedTime: 12.1 seconds RetCode: 0 Status: OK PackageFile: GDSArray_1.31.0.tar.gz PackageFileSize: 305.5 KiB