Package: FlowSOM Version: 2.19.0 Command: /home/biocbuild/bbs-3.23-bioc/R/bin/R CMD INSTALL FlowSOM StartedAt: 2025-11-23 15:14:39 -0500 (Sun, 23 Nov 2025) EndedAt: 2025-11-23 15:14:52 -0500 (Sun, 23 Nov 2025) EllapsedTime: 13.6 seconds RetCode: 0 Status: OK