Package: FlowSOM Version: 2.19.0 Command: /Library/Frameworks/R.framework/Resources/bin/R CMD INSTALL FlowSOM StartedAt: 2025-11-16 20:16:50 -0500 (Sun, 16 Nov 2025) EndedAt: 2025-11-16 20:16:53 -0500 (Sun, 16 Nov 2025) EllapsedTime: 2.6 seconds RetCode: 1 Status: ERROR