Package: FlowSOM Version: 2.19.0 Command: /Library/Frameworks/R.framework/Resources/bin/R CMD build --keep-empty-dirs --no-resave-data FlowSOM StartedAt: 2025-11-16 22:04:13 -0500 (Sun, 16 Nov 2025) EndedAt: 2025-11-16 22:04:15 -0500 (Sun, 16 Nov 2025) EllapsedTime: 2.0 seconds RetCode: 1 Status: ERROR PackageFile: None PackageFileSize: NA