Package: FlowSOM Version: 2.19.0 Command: rm -rf FlowSOM.buildbin-libdir && mkdir FlowSOM.buildbin-libdir && /Users/biocbuild/BBS/utils/build-universal.sh FlowSOM_2.19.0.tar.gz /Library/Frameworks/R.framework/Resources/bin/R FlowSOM.buildbin-libdir StartedAt: 2025-11-20 01:33:42 -0500 (Thu, 20 Nov 2025) EndedAt: 2025-11-20 01:34:10 -0500 (Thu, 20 Nov 2025) EllapsedTime: 27.9 seconds RetCode: 0 Status: OK PackageFile: FlowSOM_2.19.0.tgz PackageFileSize: 5.221 MiB