Package: FlowSOM Version: 2.19.0 Command: /Library/Frameworks/R.framework/Resources/bin/R CMD build --keep-empty-dirs --no-resave-data FlowSOM StartedAt: 2025-11-14 16:22:53 -0500 (Fri, 14 Nov 2025) EndedAt: 2025-11-14 16:23:35 -0500 (Fri, 14 Nov 2025) EllapsedTime: 42.5 seconds RetCode: 0 Status: OK PackageFile: FlowSOM_2.19.0.tar.gz PackageFileSize: 4.903 MiB