Package: FlowSOM Version: 2.19.0 Command: rm -rf FlowSOM.buildbin-libdir && mkdir FlowSOM.buildbin-libdir && /Users/biocbuild/BBS/utils/build-universal.sh FlowSOM_2.19.0.tar.gz /Library/Frameworks/R.framework/Resources/bin/R FlowSOM.buildbin-libdir StartedAt: 2025-11-14 23:33:04 -0500 (Fri, 14 Nov 2025) EndedAt: 2025-11-14 23:33:12 -0500 (Fri, 14 Nov 2025) EllapsedTime: 8.2 seconds RetCode: 0 Status: OK PackageFile: FlowSOM_2.19.0.tgz PackageFileSize: 5.232 MiB