Package: FitHiC Version: 1.37.0 Command: /Library/Frameworks/R.framework/Resources/bin/R CMD INSTALL FitHiC StartedAt: 2025-11-25 15:22:24 -0500 (Tue, 25 Nov 2025) EndedAt: 2025-11-25 15:22:52 -0500 (Tue, 25 Nov 2025) EllapsedTime: 28.2 seconds RetCode: 0 Status: OK