Package: FitHiC Version: 1.37.0 Command: /Library/Frameworks/R.framework/Resources/bin/R CMD build --keep-empty-dirs --no-resave-data FitHiC StartedAt: 2025-11-26 17:00:34 -0500 (Wed, 26 Nov 2025) EndedAt: 2025-11-26 17:02:48 -0500 (Wed, 26 Nov 2025) EllapsedTime: 133.7 seconds RetCode: 0 Status: OK PackageFile: FitHiC_1.37.0.tar.gz PackageFileSize: 27.87 MiB