Package: FGNet Version: 3.43.0 Command: /home/biocbuild/bbs-3.22-bioc/R/bin/R CMD INSTALL FGNet StartedAt: 2025-10-16 16:10:03 -0400 (Thu, 16 Oct 2025) EndedAt: 2025-10-16 16:10:11 -0400 (Thu, 16 Oct 2025) EllapsedTime: 8.4 seconds RetCode: 0 Status: OK