Package: ExpressionAtlas Version: 2.3.0 Command: /Library/Frameworks/R.framework/Resources/bin/R CMD INSTALL ExpressionAtlas StartedAt: 2025-11-21 15:25:37 -0500 (Fri, 21 Nov 2025) EndedAt: 2025-11-21 15:25:46 -0500 (Fri, 21 Nov 2025) EllapsedTime: 9.4 seconds RetCode: 0 Status: OK