Package: ExploreModelMatrix Version: 1.23.0 Command: /home/biocbuild/bbs-3.23-bioc/R/bin/R CMD INSTALL ExploreModelMatrix StartedAt: 2025-11-21 15:13:17 -0500 (Fri, 21 Nov 2025) EndedAt: 2025-11-21 15:13:27 -0500 (Fri, 21 Nov 2025) EllapsedTime: 9.6 seconds RetCode: 0 Status: OK