Package: ExploreModelMatrix Version: 1.23.0 Command: /Library/Frameworks/R.framework/Resources/bin/R CMD INSTALL ExploreModelMatrix StartedAt: 2025-11-17 15:13:41 -0500 (Mon, 17 Nov 2025) EndedAt: 2025-11-17 15:13:56 -0500 (Mon, 17 Nov 2025) EllapsedTime: 14.0 seconds RetCode: 0 Status: OK