Package: ExploreModelMatrix Version: 1.23.0 Command: /Library/Frameworks/R.framework/Resources/bin/R CMD build --keep-empty-dirs --no-resave-data ExploreModelMatrix StartedAt: 2025-11-17 17:09:21 -0500 (Mon, 17 Nov 2025) EndedAt: 2025-11-17 17:09:42 -0500 (Mon, 17 Nov 2025) EllapsedTime: 20.5 seconds RetCode: 0 Status: OK PackageFile: ExploreModelMatrix_1.23.0.tar.gz PackageFileSize: 2.611 MiB