Package: ExploreModelMatrix Version: 1.23.0 Command: /Library/Frameworks/R.framework/Resources/bin/R CMD build --keep-empty-dirs --no-resave-data ExploreModelMatrix StartedAt: 2025-11-13 16:23:07 -0500 (Thu, 13 Nov 2025) EndedAt: 2025-11-13 16:23:15 -0500 (Thu, 13 Nov 2025) EllapsedTime: 8.1 seconds RetCode: 0 Status: OK PackageFile: ExploreModelMatrix_1.23.0.tar.gz PackageFileSize: 2.61 MiB