Package: ExperimentSubset Version: 1.19.0 Command: /home/biocbuild/bbs-3.22-bioc/R/bin/R CMD INSTALL ExperimentSubset StartedAt: 2025-10-21 15:27:29 -0400 (Tue, 21 Oct 2025) EndedAt: 2025-10-21 15:28:01 -0400 (Tue, 21 Oct 2025) EllapsedTime: 32.1 seconds RetCode: 0 Status: OK