Package: ExCluster Version: 1.29.0 Command: /Library/Frameworks/R.framework/Resources/bin/R CMD INSTALL ExCluster StartedAt: 2025-11-24 15:16:13 -0500 (Mon, 24 Nov 2025) EndedAt: 2025-11-24 15:16:25 -0500 (Mon, 24 Nov 2025) EllapsedTime: 12.6 seconds RetCode: 0 Status: OK