Package: ExCluster Version: 1.29.0 Command: rm -rf ExCluster.buildbin-libdir && mkdir ExCluster.buildbin-libdir && /Users/biocbuild/BBS/utils/build-universal.sh ExCluster_1.29.0.tar.gz /Library/Frameworks/R.framework/Resources/bin/R ExCluster.buildbin-libdir StartedAt: 2025-11-23 23:35:16 -0500 (Sun, 23 Nov 2025) EndedAt: 2025-11-23 23:35:31 -0500 (Sun, 23 Nov 2025) EllapsedTime: 15.3 seconds RetCode: 0 Status: OK PackageFile: ExCluster_1.29.0.tgz PackageFileSize: 487.5 KiB