Package: EventPointer Version: 3.19.0 Command: /home/biocbuild/bbs-3.23-bioc/R/bin/R CMD INSTALL EventPointer StartedAt: 2025-11-23 16:01:23 -0500 (Sun, 23 Nov 2025) EndedAt: 2025-11-23 16:01:39 -0500 (Sun, 23 Nov 2025) EllapsedTime: 15.2 seconds RetCode: 1 Status: ERROR