Package: EventPointer Version: 3.19.0 Command: /Library/Frameworks/R.framework/Resources/bin/R CMD INSTALL EventPointer StartedAt: 2025-11-16 20:54:03 -0500 (Sun, 16 Nov 2025) EndedAt: 2025-11-16 20:54:22 -0500 (Sun, 16 Nov 2025) EllapsedTime: 19.2 seconds RetCode: 1 Status: ERROR