Package: EventPointer Version: 3.19.0 Command: /Library/Frameworks/R.framework/Resources/bin/R CMD INSTALL EventPointer StartedAt: 2025-11-12 15:46:13 -0500 (Wed, 12 Nov 2025) EndedAt: 2025-11-12 15:46:14 -0500 (Wed, 12 Nov 2025) EllapsedTime: 1.1 seconds RetCode: 1 Status: ERROR