Package: EnrichmentBrowser Version: 2.39.2 Command: /home/biocbuild/bbs-3.22-bioc/R/bin/R CMD INSTALL EnrichmentBrowser StartedAt: 2025-10-08 16:18:09 -0400 (Wed, 08 Oct 2025) EndedAt: 2025-10-08 16:18:51 -0400 (Wed, 08 Oct 2025) EllapsedTime: 41.9 seconds RetCode: 0 Status: OK