Package: EnrichmentBrowser Version: 2.39.2 Command: /home/biocbuild/bbs-3.22-bioc/R/bin/R CMD build --keep-empty-dirs --no-resave-data --md5 EnrichmentBrowser StartedAt: 2025-10-09 17:33:58 -0400 (Thu, 09 Oct 2025) EndedAt: 2025-10-09 17:35:50 -0400 (Thu, 09 Oct 2025) EllapsedTime: 111.2 seconds RetCode: 0 Status: OK PackageFile: EnrichmentBrowser_2.39.2.tar.gz PackageFileSize: 1.316 MiB