Package: EnrichedHeatmap Version: 1.39.1 Command: /home/biocbuild/bbs-3.22-bioc/R/bin/R CMD INSTALL EnrichedHeatmap StartedAt: 2025-10-05 15:14:41 -0400 (Sun, 05 Oct 2025) EndedAt: 2025-10-05 15:14:58 -0400 (Sun, 05 Oct 2025) EllapsedTime: 16.4 seconds RetCode: 0 Status: OK