Package: EnrichedHeatmap Version: 1.39.1 Command: /home/biocbuild/bbs-3.22-bioc/R/bin/R CMD build --keep-empty-dirs --no-resave-data --md5 EnrichedHeatmap StartedAt: 2025-10-05 17:30:54 -0400 (Sun, 05 Oct 2025) EndedAt: 2025-10-05 17:36:14 -0400 (Sun, 05 Oct 2025) EllapsedTime: 319.3 seconds RetCode: 0 Status: OK PackageFile: EnrichedHeatmap_1.39.1.tar.gz PackageFileSize: 11.62 MiB