Package: EnhancedVolcano Version: 1.27.0 Command: /home/biocbuild/bbs-3.22-bioc/R/bin/R CMD INSTALL EnhancedVolcano StartedAt: 2025-10-28 15:07:06 -0400 (Tue, 28 Oct 2025) EndedAt: 2025-10-28 15:07:16 -0400 (Tue, 28 Oct 2025) EllapsedTime: 9.5 seconds RetCode: 0 Status: OK