Package: EnhancedVolcano Version: 1.27.0 Command: /home/biocbuild/bbs-3.22-bioc/R/bin/R CMD build --keep-empty-dirs --no-resave-data --md5 EnhancedVolcano StartedAt: 2025-10-28 17:28:12 -0400 (Tue, 28 Oct 2025) EndedAt: 2025-10-28 17:29:52 -0400 (Tue, 28 Oct 2025) EllapsedTime: 100.1 seconds RetCode: 0 Status: OK PackageFile: EnhancedVolcano_1.27.0.tar.gz PackageFileSize: 9.418 MiB