Package: EDIRquery Version: 1.11.0 Command: /Library/Frameworks/R.framework/Resources/bin/R CMD INSTALL EDIRquery StartedAt: 2025-11-25 15:44:21 -0500 (Tue, 25 Nov 2025) EndedAt: 2025-11-25 15:44:54 -0500 (Tue, 25 Nov 2025) EllapsedTime: 33.6 seconds RetCode: 0 Status: OK