Package: EDIRquery Version: 1.11.0 Command: /Library/Frameworks/R.framework/Resources/bin/R CMD build --keep-empty-dirs --no-resave-data EDIRquery StartedAt: 2025-11-25 17:06:31 -0500 (Tue, 25 Nov 2025) EndedAt: 2025-11-25 17:07:18 -0500 (Tue, 25 Nov 2025) EllapsedTime: 47.0 seconds RetCode: 0 Status: OK PackageFile: EDIRquery_1.11.0.tar.gz PackageFileSize: 1.376 MiB