Package: EDIRquery Version: 1.11.0 Command: /Library/Frameworks/R.framework/Resources/bin/R CMD build --keep-empty-dirs --no-resave-data EDIRquery StartedAt: 2025-11-19 16:16:59 -0500 (Wed, 19 Nov 2025) EndedAt: 2025-11-19 16:17:17 -0500 (Wed, 19 Nov 2025) EllapsedTime: 18.2 seconds RetCode: 0 Status: OK PackageFile: EDIRquery_1.11.0.tar.gz PackageFileSize: 1.376 MiB