Package: EBarrays Version: 2.73.0 Command: /home/biocbuild/R/R/bin/R CMD INSTALL EBarrays StartedAt: 2025-10-09 21:04:50 -0000 (Thu, 09 Oct 2025) EndedAt: 2025-10-09 21:04:57 -0000 (Thu, 09 Oct 2025) EllapsedTime: 6.6 seconds RetCode: 0 Status: OK