Package: EBarrays Version: 2.73.0 Command: /home/biocbuild/R/R/bin/R CMD build --keep-empty-dirs --no-resave-data EBarrays StartedAt: 2025-10-10 00:19:25 -0000 (Fri, 10 Oct 2025) EndedAt: 2025-10-10 00:19:49 -0000 (Fri, 10 Oct 2025) EllapsedTime: 24.0 seconds RetCode: 0 Status: OK PackageFile: EBarrays_2.73.0.tar.gz PackageFileSize: 1.026 MiB