Package: EBarrays Version: 2.75.0 Command: /home/biocbuild/bbs-3.23-bioc/R/bin/R CMD INSTALL EBarrays StartedAt: 2025-11-06 15:11:44 -0500 (Thu, 06 Nov 2025) EndedAt: 2025-11-06 15:11:50 -0500 (Thu, 06 Nov 2025) EllapsedTime: 5.6 seconds RetCode: 0 Status: OK