Package: DynDoc Version: 1.89.0 Command: /home/biocbuild/bbs-3.23-bioc/R/bin/R CMD INSTALL DynDoc StartedAt: 2025-11-25 15:03:01 -0500 (Tue, 25 Nov 2025) EndedAt: 2025-11-25 15:03:04 -0500 (Tue, 25 Nov 2025) EllapsedTime: 3.2 seconds RetCode: 0 Status: OK