Package: DynDoc Version: 1.89.0 Command: /Library/Frameworks/R.framework/Resources/bin/R CMD INSTALL DynDoc StartedAt: 2025-11-21 15:10:11 -0500 (Fri, 21 Nov 2025) EndedAt: 2025-11-21 15:10:37 -0500 (Fri, 21 Nov 2025) EllapsedTime: 26.4 seconds RetCode: 0 Status: OK